BEGIN:VCALENDAR
VERSION:2.0
PRODID:-//https://calenda-formation.labocleo.org
X-WR-CALNAME:Calenda
X-WR-TIMEZONE:Europe/Paris
CALSCALE:GREGORIAN
X-WR-CALDESC:The calendar for arts, humanities and social sciences
METHOD:PUBLISH
BEGIN:VEVENT
DTSTART;VALUE=DATE:20191004
DTEND;VALUE=DATE:20191005
UID:675046-20191004@calenda.revues.org
SUMMARY:Norms\, silences\, powers. The anthropological approaches of "gender-based violence"
URL:https://calenda-formation.labocleo.org/675046
DESCRIPTION:Cette demi-journée d’étude propose l’élaboration d’une analyse anthropologique des enjeux sociaux qui sous-tendent les processus à la fois de définition et de réponse aux « violences fondées sur le genre ». Des anthropologues qui travaillent sur des … @plus_info https://calenda-formation.labocleo.org/675046
LOCATION:Marseille
END:VEVENT
END:VCALENDAR
