BEGIN:VCALENDAR
VERSION:2.0
PRODID:-//https://calenda-formation.labocleo.org
X-WR-CALNAME:Calenda
X-WR-TIMEZONE:Europe/Paris
CALSCALE:GREGORIAN
X-WR-CALDESC:O calendário de letras e de ciências sociais e humanas
METHOD:PUBLISH
BEGIN:VEVENT
DTSTART;VALUE=DATE:20191205
DTEND;VALUE=DATE:20191206
UID:677049-20191205@calenda.revues.org
SUMMARY:Écologies mobiles
URL:https://calenda-formation.labocleo.org/677049
DESCRIPTION:Pour la huitième édition du colloque international du groupe de recherche « Mobile et Création »\, dans un contexte environnemental sinistré et de mobilisations dans lesquelles les smartphones jouent un rôle crucial pour témoigner visuellement et rela… @plus_info https://calenda-formation.labocleo.org/677049
LOCATION:Paris
END:VEVENT
BEGIN:VEVENT
DTSTART;VALUE=DATE:20191206
DTEND;VALUE=DATE:20191207
UID:677049-20191206@calenda.revues.org
SUMMARY:Écologies mobiles
URL:https://calenda-formation.labocleo.org/677049
DESCRIPTION:Pour la huitième édition du colloque international du groupe de recherche « Mobile et Création »\, dans un contexte environnemental sinistré et de mobilisations dans lesquelles les smartphones jouent un rôle crucial pour témoigner visuellement et rela… @plus_info https://calenda-formation.labocleo.org/677049
LOCATION:Paris
END:VEVENT
END:VCALENDAR
