BEGIN:VCALENDAR
VERSION:2.0
PRODID:-//https://calenda-formation.labocleo.org
X-WR-CALNAME:Calenda
X-WR-TIMEZONE:Europe/Paris
CALSCALE:GREGORIAN
X-WR-CALDESC:The calendar for arts, humanities and social sciences
METHOD:PUBLISH
BEGIN:VEVENT
DTSTART;VALUE=DATE:20190927
DTEND;VALUE=DATE:20190928
UID:678457-20190927@calenda.revues.org
SUMMARY:Festive rituals in South America: excess\, restraint and scheduling
URL:https://calenda-formation.labocleo.org/678457
DESCRIPTION:Cette journée d'étude se propose de réunir différentes intervenant·e·s autour de la thématique des rituels festifs en Amérique du Sud. Autour de cas contemporains de fêtes et autres festivals\, il s'agira d'étudier leurs (re)configurations récentes fa… @plus_info https://calenda-formation.labocleo.org/678457
LOCATION:Rennes
END:VEVENT
END:VCALENDAR
