BEGIN:VCALENDAR
VERSION:2.0
PRODID:-//https://calenda-formation.labocleo.org
X-WR-CALNAME:Calenda
X-WR-TIMEZONE:Europe/Paris
CALSCALE:GREGORIAN
X-WR-CALDESC:The calendar for arts, humanities and social sciences
METHOD:PUBLISH
BEGIN:VEVENT
DTSTART;VALUE=DATE:20191023
DTEND;VALUE=DATE:20191024
UID:678745-20191023@calenda.revues.org
SUMMARY:Access to water\, hygiene and well-being in the metropolis
URL:https://calenda-formation.labocleo.org/678745
DESCRIPTION:Ce colloque vise à favoriser le dialogue et les échanges entre chercheurs\, élus\, aménageurs\, architectes\, acteurs associatifs\, militants autour des questions de l'accès à l'eau et des réponses que peuvent y apporter les établissements des bains-douch… @plus_info https://calenda-formation.labocleo.org/678745
LOCATION:La Defense
END:VEVENT
END:VCALENDAR
