BEGIN:VCALENDAR
VERSION:2.0
PRODID:-//https://calenda-formation.labocleo.org
X-WR-CALNAME:Calenda
X-WR-TIMEZONE:Europe/Paris
CALSCALE:GREGORIAN
X-WR-CALDESC:The calendar for arts, humanities and social sciences
METHOD:PUBLISH
BEGIN:VEVENT
DTSTART;VALUE=DATE:20200108
DTEND;VALUE=DATE:20200109
UID:679526-20200108@calenda.revues.org
SUMMARY:Approaching indigenous territorialities in (post)colonial contexts 
URL:https://calenda-formation.labocleo.org/679526
DESCRIPTION:The panel invites geographers and anthropologists to exchange about the epistemological and methodological challenges of understanding indigenous territorialities - the way to inhabit\, think of and represent space\, and the complex set of social relat… @plus_info https://calenda-formation.labocleo.org/679526
LOCATION:London
END:VEVENT
END:VCALENDAR
