BEGIN:VCALENDAR
VERSION:2.0
PRODID:-//https://calenda-formation.labocleo.org
X-WR-CALNAME:Calenda
X-WR-TIMEZONE:Europe/Paris
CALSCALE:GREGORIAN
X-WR-CALDESC:Le calendrier des lettres et sciences humaines et sociales
METHOD:PUBLISH
BEGIN:VEVENT
DTSTART;VALUE=DATE:20191201
DTEND;VALUE=DATE:20191202
UID:680733-20191201@calenda.revues.org
SUMMARY:Blessures aristocratiques (II) : regards pluridisciplinaires de l’Antiquité à nos jours
URL:https://calenda-formation.labocleo.org/680733
DESCRIPTION:Ce projet se veut le fruit de la rencontre de deux domaines de recherche fortement renouvelés ces dernières années en histoire ancienne : l’histoire des aristocraties\, par la définition d’un groupe social\, de ses modalités de représentations et des q… Weitere Informationen https://calenda-formation.labocleo.org/680733
LOCATION:Villeneuve-d'Ascq
END:VEVENT
END:VCALENDAR
