BEGIN:VCALENDAR
VERSION:2.0
PRODID:-//https://calenda-formation.labocleo.org
X-WR-CALNAME:Calenda
X-WR-TIMEZONE:Europe/Paris
CALSCALE:GREGORIAN
X-WR-CALDESC:Le calendrier des lettres et sciences humaines et sociales
METHOD:PUBLISH
BEGIN:VEVENT
DTSTART;VALUE=DATE:20191011
DTEND;VALUE=DATE:20191012
UID:681077-20191011@calenda.revues.org
SUMMARY:Femmes et religions en Méditerranée
URL:https://calenda-formation.labocleo.org/681077
DESCRIPTION:L’objectif du séminaire « Femmes et religions en Méditerranée » est de s’intéresser à la manière dont les femmes des deux rives de la Méditerranée ont vécu dans le passé\, et vivent et interagissent actuellement\, dans un espace social\, culturel et rel… Weitere Informationen https://calenda-formation.labocleo.org/681077
LOCATION:Paris
END:VEVENT
BEGIN:VEVENT
DTSTART;VALUE=DATE:20191128
DTEND;VALUE=DATE:20191129
UID:681077-20191128@calenda.revues.org
SUMMARY:Femmes et religions en Méditerranée
URL:https://calenda-formation.labocleo.org/681077
DESCRIPTION:L’objectif du séminaire « Femmes et religions en Méditerranée » est de s’intéresser à la manière dont les femmes des deux rives de la Méditerranée ont vécu dans le passé\, et vivent et interagissent actuellement\, dans un espace social\, culturel et rel… Weitere Informationen https://calenda-formation.labocleo.org/681077
LOCATION:Paris
END:VEVENT
BEGIN:VEVENT
DTSTART;VALUE=DATE:20200109
DTEND;VALUE=DATE:20200110
UID:681077-20200109@calenda.revues.org
SUMMARY:Femmes et religions en Méditerranée
URL:https://calenda-formation.labocleo.org/681077
DESCRIPTION:L’objectif du séminaire « Femmes et religions en Méditerranée » est de s’intéresser à la manière dont les femmes des deux rives de la Méditerranée ont vécu dans le passé\, et vivent et interagissent actuellement\, dans un espace social\, culturel et rel… Weitere Informationen https://calenda-formation.labocleo.org/681077
LOCATION:Paris
END:VEVENT
BEGIN:VEVENT
DTSTART;VALUE=DATE:20200312
DTEND;VALUE=DATE:20200313
UID:681077-20200312@calenda.revues.org
SUMMARY:Femmes et religions en Méditerranée
URL:https://calenda-formation.labocleo.org/681077
DESCRIPTION:L’objectif du séminaire « Femmes et religions en Méditerranée » est de s’intéresser à la manière dont les femmes des deux rives de la Méditerranée ont vécu dans le passé\, et vivent et interagissent actuellement\, dans un espace social\, culturel et rel… Weitere Informationen https://calenda-formation.labocleo.org/681077
LOCATION:Paris
END:VEVENT
BEGIN:VEVENT
DTSTART;VALUE=DATE:20200507
DTEND;VALUE=DATE:20200508
UID:681077-20200507@calenda.revues.org
SUMMARY:Femmes et religions en Méditerranée
URL:https://calenda-formation.labocleo.org/681077
DESCRIPTION:L’objectif du séminaire « Femmes et religions en Méditerranée » est de s’intéresser à la manière dont les femmes des deux rives de la Méditerranée ont vécu dans le passé\, et vivent et interagissent actuellement\, dans un espace social\, culturel et rel… Weitere Informationen https://calenda-formation.labocleo.org/681077
LOCATION:Paris
END:VEVENT
BEGIN:VEVENT
DTSTART;VALUE=DATE:20200611
DTEND;VALUE=DATE:20200612
UID:681077-20200611@calenda.revues.org
SUMMARY:Femmes et religions en Méditerranée
URL:https://calenda-formation.labocleo.org/681077
DESCRIPTION:L’objectif du séminaire « Femmes et religions en Méditerranée » est de s’intéresser à la manière dont les femmes des deux rives de la Méditerranée ont vécu dans le passé\, et vivent et interagissent actuellement\, dans un espace social\, culturel et rel… Weitere Informationen https://calenda-formation.labocleo.org/681077
LOCATION:Paris
END:VEVENT
BEGIN:VEVENT
DTSTART;VALUE=DATE:20200924
DTEND;VALUE=DATE:20200925
UID:681077-20200924@calenda.revues.org
SUMMARY:Femmes et religions en Méditerranée
URL:https://calenda-formation.labocleo.org/681077
DESCRIPTION:L’objectif du séminaire « Femmes et religions en Méditerranée » est de s’intéresser à la manière dont les femmes des deux rives de la Méditerranée ont vécu dans le passé\, et vivent et interagissent actuellement\, dans un espace social\, culturel et rel… Weitere Informationen https://calenda-formation.labocleo.org/681077
LOCATION:Paris
END:VEVENT
BEGIN:VEVENT
DTSTART;VALUE=DATE:20201119
DTEND;VALUE=DATE:20201120
UID:681077-20201119@calenda.revues.org
SUMMARY:Femmes et religions en Méditerranée
URL:https://calenda-formation.labocleo.org/681077
DESCRIPTION:L’objectif du séminaire « Femmes et religions en Méditerranée » est de s’intéresser à la manière dont les femmes des deux rives de la Méditerranée ont vécu dans le passé\, et vivent et interagissent actuellement\, dans un espace social\, culturel et rel… Weitere Informationen https://calenda-formation.labocleo.org/681077
LOCATION:Paris
END:VEVENT
BEGIN:VEVENT
DTSTART;VALUE=DATE:20201217
DTEND;VALUE=DATE:20201218
UID:681077-20201217@calenda.revues.org
SUMMARY:Femmes et religions en Méditerranée
URL:https://calenda-formation.labocleo.org/681077
DESCRIPTION:L’objectif du séminaire « Femmes et religions en Méditerranée » est de s’intéresser à la manière dont les femmes des deux rives de la Méditerranée ont vécu dans le passé\, et vivent et interagissent actuellement\, dans un espace social\, culturel et rel… Weitere Informationen https://calenda-formation.labocleo.org/681077
LOCATION:Paris
END:VEVENT
BEGIN:VEVENT
DTSTART;VALUE=DATE:20210114
DTEND;VALUE=DATE:20210115
UID:681077-20210114@calenda.revues.org
SUMMARY:Femmes et religions en Méditerranée
URL:https://calenda-formation.labocleo.org/681077
DESCRIPTION:L’objectif du séminaire « Femmes et religions en Méditerranée » est de s’intéresser à la manière dont les femmes des deux rives de la Méditerranée ont vécu dans le passé\, et vivent et interagissent actuellement\, dans un espace social\, culturel et rel… Weitere Informationen https://calenda-formation.labocleo.org/681077
LOCATION:Paris
END:VEVENT
END:VCALENDAR
