BEGIN:VCALENDAR
VERSION:2.0
PRODID:-//https://calenda-formation.labocleo.org
X-WR-CALNAME:Calenda
X-WR-TIMEZONE:Europe/Paris
CALSCALE:GREGORIAN
X-WR-CALDESC:Le calendrier des lettres et sciences humaines et sociales
METHOD:PUBLISH
BEGIN:VEVENT
DTSTART;VALUE=DATE:20191017
DTEND;VALUE=DATE:20191018
UID:683498-20191017@calenda.revues.org
SUMMARY:Séminaire du groupe de recherche « Énergie\, technologie et société »
URL:https://calenda-formation.labocleo.org/683498
DESCRIPTION:Les séminaires du Groupe énergie\, technologie et société d'EDF R&D existent depuis trente ans et se déroulent en partenariat avec le soutien de la Fondation Maison des sciences de l'homme. Libres d’accès et ouverts à un public à l’interface entre le … @plus_info https://calenda-formation.labocleo.org/683498
LOCATION:Paris
END:VEVENT
BEGIN:VEVENT
DTSTART;VALUE=DATE:20191126
DTEND;VALUE=DATE:20191127
UID:683498-20191126@calenda.revues.org
SUMMARY:Séminaire du groupe de recherche « Énergie\, technologie et société »
URL:https://calenda-formation.labocleo.org/683498
DESCRIPTION:Les séminaires du Groupe énergie\, technologie et société d'EDF R&D existent depuis trente ans et se déroulent en partenariat avec le soutien de la Fondation Maison des sciences de l'homme. Libres d’accès et ouverts à un public à l’interface entre le … @plus_info https://calenda-formation.labocleo.org/683498
LOCATION:Paris
END:VEVENT
BEGIN:VEVENT
DTSTART;VALUE=DATE:20191205
DTEND;VALUE=DATE:20191206
UID:683498-20191205@calenda.revues.org
SUMMARY:Séminaire du groupe de recherche « Énergie\, technologie et société »
URL:https://calenda-formation.labocleo.org/683498
DESCRIPTION:Les séminaires du Groupe énergie\, technologie et société d'EDF R&D existent depuis trente ans et se déroulent en partenariat avec le soutien de la Fondation Maison des sciences de l'homme. Libres d’accès et ouverts à un public à l’interface entre le … @plus_info https://calenda-formation.labocleo.org/683498
LOCATION:Paris
END:VEVENT
BEGIN:VEVENT
DTSTART;VALUE=DATE:20200128
DTEND;VALUE=DATE:20200129
UID:683498-20200128@calenda.revues.org
SUMMARY:Séminaire du groupe de recherche « Énergie\, technologie et société »
URL:https://calenda-formation.labocleo.org/683498
DESCRIPTION:Les séminaires du Groupe énergie\, technologie et société d'EDF R&D existent depuis trente ans et se déroulent en partenariat avec le soutien de la Fondation Maison des sciences de l'homme. Libres d’accès et ouverts à un public à l’interface entre le … @plus_info https://calenda-formation.labocleo.org/683498
LOCATION:Paris
END:VEVENT
BEGIN:VEVENT
DTSTART;VALUE=DATE:20200225
DTEND;VALUE=DATE:20200226
UID:683498-20200225@calenda.revues.org
SUMMARY:Séminaire du groupe de recherche « Énergie\, technologie et société »
URL:https://calenda-formation.labocleo.org/683498
DESCRIPTION:Les séminaires du Groupe énergie\, technologie et société d'EDF R&D existent depuis trente ans et se déroulent en partenariat avec le soutien de la Fondation Maison des sciences de l'homme. Libres d’accès et ouverts à un public à l’interface entre le … @plus_info https://calenda-formation.labocleo.org/683498
LOCATION:Paris
END:VEVENT
BEGIN:VEVENT
DTSTART;VALUE=DATE:20200324
DTEND;VALUE=DATE:20200325
UID:683498-20200324@calenda.revues.org
SUMMARY:Séminaire du groupe de recherche « Énergie\, technologie et société »
URL:https://calenda-formation.labocleo.org/683498
DESCRIPTION:Les séminaires du Groupe énergie\, technologie et société d'EDF R&D existent depuis trente ans et se déroulent en partenariat avec le soutien de la Fondation Maison des sciences de l'homme. Libres d’accès et ouverts à un public à l’interface entre le … @plus_info https://calenda-formation.labocleo.org/683498
LOCATION:Paris
END:VEVENT
BEGIN:VEVENT
DTSTART;VALUE=DATE:20200402
DTEND;VALUE=DATE:20200403
UID:683498-20200402@calenda.revues.org
SUMMARY:Séminaire du groupe de recherche « Énergie\, technologie et société »
URL:https://calenda-formation.labocleo.org/683498
DESCRIPTION:Les séminaires du Groupe énergie\, technologie et société d'EDF R&D existent depuis trente ans et se déroulent en partenariat avec le soutien de la Fondation Maison des sciences de l'homme. Libres d’accès et ouverts à un public à l’interface entre le … @plus_info https://calenda-formation.labocleo.org/683498
LOCATION:Paris
END:VEVENT
BEGIN:VEVENT
DTSTART;VALUE=DATE:20200514
DTEND;VALUE=DATE:20200515
UID:683498-20200514@calenda.revues.org
SUMMARY:Séminaire du groupe de recherche « Énergie\, technologie et société »
URL:https://calenda-formation.labocleo.org/683498
DESCRIPTION:Les séminaires du Groupe énergie\, technologie et société d'EDF R&D existent depuis trente ans et se déroulent en partenariat avec le soutien de la Fondation Maison des sciences de l'homme. Libres d’accès et ouverts à un public à l’interface entre le … @plus_info https://calenda-formation.labocleo.org/683498
LOCATION:Paris
END:VEVENT
BEGIN:VEVENT
DTSTART;VALUE=DATE:20200616
DTEND;VALUE=DATE:20200617
UID:683498-20200616@calenda.revues.org
SUMMARY:Séminaire du groupe de recherche « Énergie\, technologie et société »
URL:https://calenda-formation.labocleo.org/683498
DESCRIPTION:Les séminaires du Groupe énergie\, technologie et société d'EDF R&D existent depuis trente ans et se déroulent en partenariat avec le soutien de la Fondation Maison des sciences de l'homme. Libres d’accès et ouverts à un public à l’interface entre le … @plus_info https://calenda-formation.labocleo.org/683498
LOCATION:Paris
END:VEVENT
END:VCALENDAR
