BEGIN:VCALENDAR
VERSION:2.0
PRODID:-//https://calenda-formation.labocleo.org
X-WR-CALNAME:Calenda
X-WR-TIMEZONE:Europe/Paris
CALSCALE:GREGORIAN
X-WR-CALDESC:The calendar for arts, humanities and social sciences
METHOD:PUBLISH
BEGIN:VEVENT
DTSTART;VALUE=DATE:20191001
DTEND;VALUE=DATE:20191002
UID:684817-20191001@calenda.revues.org
SUMMARY:Visual culture in the classical world
URL:https://calenda-formation.labocleo.org/684817
DESCRIPTION:PeClA 2019 is a two‐day conference in Classical Archaeology and Classics aimed at postgraduate / doctoral students traditionally offering a space for presenting research results\, discussion\, and an exchange of ideas\, in a friendly and supportive envi… @plus_info https://calenda-formation.labocleo.org/684817
LOCATION:Prague
END:VEVENT
END:VCALENDAR
