BEGIN:VCALENDAR
VERSION:2.0
PRODID:-//https://calenda-formation.labocleo.org
X-WR-CALNAME:Calenda
X-WR-TIMEZONE:Europe/Paris
CALSCALE:GREGORIAN
X-WR-CALDESC:Le calendrier des lettres et sciences humaines et sociales
METHOD:PUBLISH
BEGIN:VEVENT
DTSTART;VALUE=DATE:20200131
DTEND;VALUE=DATE:20200201
UID:685550-20200131@calenda.revues.org
SUMMARY:XXIXe prix de l'Observatoire national de la vie étudiante
URL:https://calenda-formation.labocleo.org/685550
DESCRIPTION:Pour la XXIXe année consécutive\, l'Observatoire national de la vie étudiante (OVE) lance son concours\, destiné à encourager et valoriser les recherches sur les conditions de vie des étudiant·e·s\, menées par les étudiant·e·s eux-mêmes. Il est ouvert a… Weitere Informationen https://calenda-formation.labocleo.org/685550
LOCATION:
END:VEVENT
END:VCALENDAR
