BEGIN:VCALENDAR
VERSION:2.0
PRODID:-//https://calenda-formation.labocleo.org
X-WR-CALNAME:Calenda
X-WR-TIMEZONE:Europe/Paris
CALSCALE:GREGORIAN
X-WR-CALDESC:O calendário de letras e de ciências sociais e humanas
METHOD:PUBLISH
BEGIN:VEVENT
DTSTART;VALUE=DATE:20191103
DTEND;VALUE=DATE:20191104
UID:686705-20191103@calenda.revues.org
SUMMARY:Cultures populaires et politique 
URL:https://calenda-formation.labocleo.org/686705
DESCRIPTION:L’ambition de ce colloque est de révéler les liens étroits\, quoique souvent cachés ou implicites\, entre cultures populaires et politique. En effet\, que cette dernière se joue d’elles\, soit ridiculisée ou louée par elles\, il apparaît intéressant d’int… @plus_info https://calenda-formation.labocleo.org/686705
LOCATION:La Rochelle
END:VEVENT
END:VCALENDAR
