BEGIN:VCALENDAR
VERSION:2.0
PRODID:-//https://calenda-formation.labocleo.org
X-WR-CALNAME:Calenda
X-WR-TIMEZONE:Europe/Paris
CALSCALE:GREGORIAN
X-WR-CALDESC:The calendar for arts, humanities and social sciences
METHOD:PUBLISH
BEGIN:VEVENT
DTSTART;VALUE=DATE:20191014
DTEND;VALUE=DATE:20191015
UID:688365-20191014@calenda.revues.org
SUMMARY:“The Names of the Gods!” 
URL:https://calenda-formation.labocleo.org/688365
DESCRIPTION:The ERC MAP Seminar “The Names of the Gods! 4: Exploring the potentials of the name in images\, in narratives” pursues the investigation on the systems of naming of the divine. By focusing on names\, images and narratives\, we will look for connections … @plus_info https://calenda-formation.labocleo.org/688365
LOCATION:Toulouse
END:VEVENT
BEGIN:VEVENT
DTSTART;VALUE=DATE:20191118
DTEND;VALUE=DATE:20191119
UID:688365-20191118@calenda.revues.org
SUMMARY:“The Names of the Gods!” 
URL:https://calenda-formation.labocleo.org/688365
DESCRIPTION:The ERC MAP Seminar “The Names of the Gods! 4: Exploring the potentials of the name in images\, in narratives” pursues the investigation on the systems of naming of the divine. By focusing on names\, images and narratives\, we will look for connections … @plus_info https://calenda-formation.labocleo.org/688365
LOCATION:Toulouse
END:VEVENT
BEGIN:VEVENT
DTSTART;VALUE=DATE:20191209
DTEND;VALUE=DATE:20191210
UID:688365-20191209@calenda.revues.org
SUMMARY:“The Names of the Gods!” 
URL:https://calenda-formation.labocleo.org/688365
DESCRIPTION:The ERC MAP Seminar “The Names of the Gods! 4: Exploring the potentials of the name in images\, in narratives” pursues the investigation on the systems of naming of the divine. By focusing on names\, images and narratives\, we will look for connections … @plus_info https://calenda-formation.labocleo.org/688365
LOCATION:Toulouse
END:VEVENT
BEGIN:VEVENT
DTSTART;VALUE=DATE:20200113
DTEND;VALUE=DATE:20200114
UID:688365-20200113@calenda.revues.org
SUMMARY:“The Names of the Gods!” 
URL:https://calenda-formation.labocleo.org/688365
DESCRIPTION:The ERC MAP Seminar “The Names of the Gods! 4: Exploring the potentials of the name in images\, in narratives” pursues the investigation on the systems of naming of the divine. By focusing on names\, images and narratives\, we will look for connections … @plus_info https://calenda-formation.labocleo.org/688365
LOCATION:Toulouse
END:VEVENT
BEGIN:VEVENT
DTSTART;VALUE=DATE:20200210
DTEND;VALUE=DATE:20200211
UID:688365-20200210@calenda.revues.org
SUMMARY:“The Names of the Gods!” 
URL:https://calenda-formation.labocleo.org/688365
DESCRIPTION:The ERC MAP Seminar “The Names of the Gods! 4: Exploring the potentials of the name in images\, in narratives” pursues the investigation on the systems of naming of the divine. By focusing on names\, images and narratives\, we will look for connections … @plus_info https://calenda-formation.labocleo.org/688365
LOCATION:Toulouse
END:VEVENT
BEGIN:VEVENT
DTSTART;VALUE=DATE:20200427
DTEND;VALUE=DATE:20200428
UID:688365-20200427@calenda.revues.org
SUMMARY:“The Names of the Gods!” 
URL:https://calenda-formation.labocleo.org/688365
DESCRIPTION:The ERC MAP Seminar “The Names of the Gods! 4: Exploring the potentials of the name in images\, in narratives” pursues the investigation on the systems of naming of the divine. By focusing on names\, images and narratives\, we will look for connections … @plus_info https://calenda-formation.labocleo.org/688365
LOCATION:Toulouse
END:VEVENT
BEGIN:VEVENT
DTSTART;VALUE=DATE:20200525
DTEND;VALUE=DATE:20200526
UID:688365-20200525@calenda.revues.org
SUMMARY:“The Names of the Gods!” 
URL:https://calenda-formation.labocleo.org/688365
DESCRIPTION:The ERC MAP Seminar “The Names of the Gods! 4: Exploring the potentials of the name in images\, in narratives” pursues the investigation on the systems of naming of the divine. By focusing on names\, images and narratives\, we will look for connections … @plus_info https://calenda-formation.labocleo.org/688365
LOCATION:Toulouse
END:VEVENT
END:VCALENDAR
