BEGIN:VCALENDAR
VERSION:2.0
PRODID:-//https://calenda-formation.labocleo.org
X-WR-CALNAME:Calenda
X-WR-TIMEZONE:Europe/Paris
CALSCALE:GREGORIAN
X-WR-CALDESC:Le calendrier des lettres et sciences humaines et sociales
METHOD:PUBLISH
BEGIN:VEVENT
DTSTART;VALUE=DATE:20191115
DTEND;VALUE=DATE:20191116
UID:688805-20191115@calenda.revues.org
SUMMARY:Enseigner et apprendre l’orthographe à l’heure du numérique
URL:https://calenda-formation.labocleo.org/688805
DESCRIPTION:L’enseignement de l’orthographe est plus que jamais une préoccupation importante de tous les acteurs de l’école. Le développement des recherches dans plusieurs disciplines (linguistique\, psychologie cognitive\, didactique du français\, sociolinguistiqu… Weitere Informationen https://calenda-formation.labocleo.org/688805
LOCATION:
END:VEVENT
END:VCALENDAR
