BEGIN:VCALENDAR
VERSION:2.0
PRODID:-//https://calenda-formation.labocleo.org
X-WR-CALNAME:Calenda
X-WR-TIMEZONE:Europe/Paris
CALSCALE:GREGORIAN
X-WR-CALDESC:The calendar for arts, humanities and social sciences
METHOD:PUBLISH
BEGIN:VEVENT
DTSTART;VALUE=DATE:20200115
DTEND;VALUE=DATE:20200116
UID:688937-20200115@calenda.revues.org
SUMMARY:Empire after the Emperor: From the Napoleonic Empire to the Age of Empire
URL:https://calenda-formation.labocleo.org/688937
DESCRIPTION:This conference will explore connections between the Napoleonic conquests and the Age of Empire. First\, we seek to reinterpret Napoleonic domination overseas\, in Europe\, and in France itself in the light of the New Imperial History and examples of ni… @plus_info https://calenda-formation.labocleo.org/688937
LOCATION:Grenoble
END:VEVENT
END:VCALENDAR
