BEGIN:VCALENDAR
VERSION:2.0
PRODID:-//https://calenda-formation.labocleo.org
X-WR-CALNAME:Calenda
X-WR-TIMEZONE:Europe/Paris
CALSCALE:GREGORIAN
X-WR-CALDESC:The calendar for arts, humanities and social sciences
METHOD:PUBLISH
BEGIN:VEVENT
DTSTART;VALUE=DATE:20200430
DTEND;VALUE=DATE:20200501
UID:692038-20200430@calenda.revues.org
SUMMARY:Neo-Saussurism. Evolution or revolution?
URL:https://calenda-formation.labocleo.org/692038
DESCRIPTION:Depuis quelques années\, un regain d’intérêt pour la linguistique Saussurienne est apparu dans les milieux de la linguistique. La raison n'est plus le CLG (Cours de linguistique générale)\, mais les nouveaux Cahiers retrouvés en 1996 et édités en 2002.… @plus_info https://calenda-formation.labocleo.org/692038
LOCATION:Aïn Temouchent
END:VEVENT
END:VCALENDAR
