BEGIN:VCALENDAR
VERSION:2.0
PRODID:-//https://calenda-formation.labocleo.org
X-WR-CALNAME:Calenda
X-WR-TIMEZONE:Europe/Paris
CALSCALE:GREGORIAN
X-WR-CALDESC:Le calendrier des lettres et sciences humaines et sociales
METHOD:PUBLISH
BEGIN:VEVENT
DTSTART;VALUE=DATE:20191114
DTEND;VALUE=DATE:20191115
UID:692057-20191114@calenda.revues.org
SUMMARY:Changement climatique : les architectes veulent-ils faire partie du problème ou de la solution ?
URL:https://calenda-formation.labocleo.org/692057
DESCRIPTION:Le réseau ENSA-ÉCO « Pour l’enseignement de la Transition Écologique dans les écoles d’architecture et de paysage » tend à valoriser des pratiques pédagogiques vertueuses\, émergentes et démonstratives du point de vue écologique\, qui se pratiquent d’o… @plus_info https://calenda-formation.labocleo.org/692057
LOCATION:
END:VEVENT
BEGIN:VEVENT
DTSTART;VALUE=DATE:20191115
DTEND;VALUE=DATE:20191116
UID:692057-20191115@calenda.revues.org
SUMMARY:Changement climatique : les architectes veulent-ils faire partie du problème ou de la solution ?
URL:https://calenda-formation.labocleo.org/692057
DESCRIPTION:Le réseau ENSA-ÉCO « Pour l’enseignement de la Transition Écologique dans les écoles d’architecture et de paysage » tend à valoriser des pratiques pédagogiques vertueuses\, émergentes et démonstratives du point de vue écologique\, qui se pratiquent d’o… @plus_info https://calenda-formation.labocleo.org/692057
LOCATION:
END:VEVENT
BEGIN:VEVENT
DTSTART;VALUE=DATE:20191116
DTEND;VALUE=DATE:20191117
UID:692057-20191116@calenda.revues.org
SUMMARY:Changement climatique : les architectes veulent-ils faire partie du problème ou de la solution ?
URL:https://calenda-formation.labocleo.org/692057
DESCRIPTION:Le réseau ENSA-ÉCO « Pour l’enseignement de la Transition Écologique dans les écoles d’architecture et de paysage » tend à valoriser des pratiques pédagogiques vertueuses\, émergentes et démonstratives du point de vue écologique\, qui se pratiquent d’o… @plus_info https://calenda-formation.labocleo.org/692057
LOCATION:
END:VEVENT
END:VCALENDAR
