BEGIN:VCALENDAR
VERSION:2.0
PRODID:-//https://calenda-formation.labocleo.org
X-WR-CALNAME:Calenda
X-WR-TIMEZONE:Europe/Paris
CALSCALE:GREGORIAN
X-WR-CALDESC:Le calendrier des lettres et sciences humaines et sociales
METHOD:PUBLISH
BEGIN:VEVENT
DTSTART;VALUE=DATE:20191220
DTEND;VALUE=DATE:20191221
UID:694434-20191220@calenda.revues.org
SUMMARY:Paysage\, autonomie habitante et action locale dans le Japon contemporain\, des années 1990 à nos jours : regards croisés franco-nippons
URL:https://calenda-formation.labocleo.org/694434
DESCRIPTION:Ce numéro de la revue Projets de paysage a pour double objectif de faciliter l’accès à la pensée contemporaine des chercheurs japonais à la fois sur la notion de paysage et sur l’action en ce domaine\, et de présenter des textes récents de chercheurs … @plus_info https://calenda-formation.labocleo.org/694434
LOCATION:
END:VEVENT
END:VCALENDAR
