BEGIN:VCALENDAR
VERSION:2.0
PRODID:-//https://calenda-formation.labocleo.org
X-WR-CALNAME:Calenda
X-WR-TIMEZONE:Europe/Paris
CALSCALE:GREGORIAN
X-WR-CALDESC:The calendar for arts, humanities and social sciences
METHOD:PUBLISH
BEGIN:VEVENT
DTSTART;VALUE=DATE:20191117
DTEND;VALUE=DATE:20191118
UID:696537-20191117@calenda.revues.org
SUMMARY:The city\, its laws and the right to the city*
URL:https://calenda-formation.labocleo.org/696537
DESCRIPTION:L’objectif de cette journée d’étude est d’aborder l’objet « ville » sous l’angle juridique\, historique\, sociologique\, architectural\, philosophique\, etc.\, et d’analyser les interactions entre cet objet et le(s) droit(s) alors même qu’il ne s’agit pas … @plus_info https://calenda-formation.labocleo.org/696537
LOCATION:Toulouse
END:VEVENT
END:VCALENDAR
