BEGIN:VCALENDAR
VERSION:2.0
PRODID:-//https://calenda-formation.labocleo.org
X-WR-CALNAME:Calenda
X-WR-TIMEZONE:Europe/Paris
CALSCALE:GREGORIAN
X-WR-CALDESC:Le calendrier des lettres et sciences humaines et sociales
METHOD:PUBLISH
BEGIN:VEVENT
DTSTART;VALUE=DATE:20191107
DTEND;VALUE=DATE:20191108
UID:697494-20191107@calenda.revues.org
SUMMARY:Le genre manifeste
URL:https://calenda-formation.labocleo.org/697494
DESCRIPTION:Cet événement est le colloque fondateur de Philomel\, groupe interdisciplinaire sur le genre. Il bénéficie soutien des écoles doctorales « Civilisations\, cultures\, littératures et sociétés »\, « Concepts et langages »\, « Littératures françaises et comp… @plus_info https://calenda-formation.labocleo.org/697494
LOCATION:Paris
END:VEVENT
BEGIN:VEVENT
DTSTART;VALUE=DATE:20191108
DTEND;VALUE=DATE:20191109
UID:697494-20191108@calenda.revues.org
SUMMARY:Le genre manifeste
URL:https://calenda-formation.labocleo.org/697494
DESCRIPTION:Cet événement est le colloque fondateur de Philomel\, groupe interdisciplinaire sur le genre. Il bénéficie soutien des écoles doctorales « Civilisations\, cultures\, littératures et sociétés »\, « Concepts et langages »\, « Littératures françaises et comp… @plus_info https://calenda-formation.labocleo.org/697494
LOCATION:Paris
END:VEVENT
BEGIN:VEVENT
DTSTART;VALUE=DATE:20191109
DTEND;VALUE=DATE:20191110
UID:697494-20191109@calenda.revues.org
SUMMARY:Le genre manifeste
URL:https://calenda-formation.labocleo.org/697494
DESCRIPTION:Cet événement est le colloque fondateur de Philomel\, groupe interdisciplinaire sur le genre. Il bénéficie soutien des écoles doctorales « Civilisations\, cultures\, littératures et sociétés »\, « Concepts et langages »\, « Littératures françaises et comp… @plus_info https://calenda-formation.labocleo.org/697494
LOCATION:Paris
END:VEVENT
END:VCALENDAR
