BEGIN:VCALENDAR
VERSION:2.0
PRODID:-//https://calenda-formation.labocleo.org
X-WR-CALNAME:Calenda
X-WR-TIMEZONE:Europe/Paris
CALSCALE:GREGORIAN
X-WR-CALDESC:O calendário de letras e de ciências sociais e humanas
METHOD:PUBLISH
BEGIN:VEVENT
DTSTART;VALUE=DATE:20200115
DTEND;VALUE=DATE:20200116
UID:699524-20200115@calenda.revues.org
SUMMARY:Trajectoires du texte littéraire : figuration et médiatisation
URL:https://calenda-formation.labocleo.org/699524
DESCRIPTION:Le personnel littéraire\, auteurs\, éditeurs\, etc.\, est très souvent figuré dans les œuvres littéraires. C’est aussi le cas des textes eux-mêmes\, qui connaissent des trajectoires propres à l’intérieur des œuvres littéraires quelles qu’elles soient : du… @plus_info https://calenda-formation.labocleo.org/699524
LOCATION:Montreal
END:VEVENT
END:VCALENDAR
