BEGIN:VCALENDAR
VERSION:2.0
PRODID:-//https://calenda-formation.labocleo.org
X-WR-CALNAME:Calenda
X-WR-TIMEZONE:Europe/Paris
CALSCALE:GREGORIAN
X-WR-CALDESC:O calendário de letras e de ciências sociais e humanas
METHOD:PUBLISH
BEGIN:VEVENT
DTSTART;VALUE=DATE:20191108
DTEND;VALUE=DATE:20191109
UID:700295-20191108@calenda.revues.org
SUMMARY:Topographie des archives : espaces de pensée\, d’écriture\, de création
URL:https://calenda-formation.labocleo.org/700295
DESCRIPTION:Les lieux où se forment les archives d’une personne (artiste\, chercheur\, critique) sont d’abord des espaces de travail\, d’écriture\, de pensée. La topographie des archives est à la fois tangible\, puisqu’elle concerne l’emplacement physique et matériel… @plus_info https://calenda-formation.labocleo.org/700295
LOCATION:Paris
END:VEVENT
END:VCALENDAR
