BEGIN:VCALENDAR
VERSION:2.0
PRODID:-//https://calenda-formation.labocleo.org
X-WR-CALNAME:Calenda
X-WR-TIMEZONE:Europe/Paris
CALSCALE:GREGORIAN
X-WR-CALDESC:The calendar for arts, humanities and social sciences
METHOD:PUBLISH
BEGIN:VEVENT
DTSTART;VALUE=DATE:20191201
DTEND;VALUE=DATE:20191202
UID:701442-20191201@calenda.revues.org
SUMMARY:Governing sciences and technologies\, governing through the sciences and technologies: the issues for women (late 19th-early 21st century))
URL:https://calenda-formation.labocleo.org/701442
DESCRIPTION:L’histoire des femmes dans les sciences et les techniques a fait l’objet d’un véritable renouveau historiographique ces dernières années. Les travaux réalisés ont notamment montré que leur présence dans ces domaines\, si elle s’était renforcée à parti… @plus_info https://calenda-formation.labocleo.org/701442
LOCATION:Moscow
END:VEVENT
END:VCALENDAR
