BEGIN:VCALENDAR
VERSION:2.0
PRODID:-//https://calenda-formation.labocleo.org
X-WR-CALNAME:Calenda
X-WR-TIMEZONE:Europe/Paris
CALSCALE:GREGORIAN
X-WR-CALDESC:Le calendrier des lettres et sciences humaines et sociales
METHOD:PUBLISH
BEGIN:VEVENT
DTSTART;VALUE=DATE:20191218
DTEND;VALUE=DATE:20191219
UID:704041-20191218@calenda.revues.org
SUMMARY:Le particulier\, le singulier\, l’universel. Charles Sorel (1602-1674)
URL:https://calenda-formation.labocleo.org/704041
DESCRIPTION:Cette journée d’études se fixe pour but de confronter des approches récentes\, et éventuellement divergentes\, des écrits de Charles Sorel. Ces travaux féconds et novateurs permettent de prendre la mesure d’une œuvre dont la force et la cohérence ont é… Más informaciones https://calenda-formation.labocleo.org/704041
LOCATION:París
END:VEVENT
END:VCALENDAR
