BEGIN:VCALENDAR
VERSION:2.0
PRODID:-//https://calenda-formation.labocleo.org
X-WR-CALNAME:Calenda
X-WR-TIMEZONE:Europe/Paris
CALSCALE:GREGORIAN
X-WR-CALDESC:O calendário de letras e de ciências sociais e humanas
METHOD:PUBLISH
BEGIN:VEVENT
DTSTART;VALUE=DATE:20191107
DTEND;VALUE=DATE:20191108
UID:706643-20191107@calenda.revues.org
SUMMARY:Régimes dynastiques et modernité politique
URL:https://calenda-formation.labocleo.org/706643
DESCRIPTION:Dans le prolongement des années précédentes\, le séminaire sondera l’écart entre une organisation politique fortement incarnée dans la personne et la maison du Roi\, et le modèle de l’État dont l’abstraction va grandissante\, jusqu’au hiatus précoce que… @plus_info https://calenda-formation.labocleo.org/706643
LOCATION:Paris
END:VEVENT
BEGIN:VEVENT
DTSTART;VALUE=DATE:20191121
DTEND;VALUE=DATE:20191122
UID:706643-20191121@calenda.revues.org
SUMMARY:Régimes dynastiques et modernité politique
URL:https://calenda-formation.labocleo.org/706643
DESCRIPTION:Dans le prolongement des années précédentes\, le séminaire sondera l’écart entre une organisation politique fortement incarnée dans la personne et la maison du Roi\, et le modèle de l’État dont l’abstraction va grandissante\, jusqu’au hiatus précoce que… @plus_info https://calenda-formation.labocleo.org/706643
LOCATION:Paris
END:VEVENT
BEGIN:VEVENT
DTSTART;VALUE=DATE:20191205
DTEND;VALUE=DATE:20191206
UID:706643-20191205@calenda.revues.org
SUMMARY:Régimes dynastiques et modernité politique
URL:https://calenda-formation.labocleo.org/706643
DESCRIPTION:Dans le prolongement des années précédentes\, le séminaire sondera l’écart entre une organisation politique fortement incarnée dans la personne et la maison du Roi\, et le modèle de l’État dont l’abstraction va grandissante\, jusqu’au hiatus précoce que… @plus_info https://calenda-formation.labocleo.org/706643
LOCATION:Paris
END:VEVENT
BEGIN:VEVENT
DTSTART;VALUE=DATE:20191219
DTEND;VALUE=DATE:20191220
UID:706643-20191219@calenda.revues.org
SUMMARY:Régimes dynastiques et modernité politique
URL:https://calenda-formation.labocleo.org/706643
DESCRIPTION:Dans le prolongement des années précédentes\, le séminaire sondera l’écart entre une organisation politique fortement incarnée dans la personne et la maison du Roi\, et le modèle de l’État dont l’abstraction va grandissante\, jusqu’au hiatus précoce que… @plus_info https://calenda-formation.labocleo.org/706643
LOCATION:Paris
END:VEVENT
BEGIN:VEVENT
DTSTART;VALUE=DATE:20200116
DTEND;VALUE=DATE:20200117
UID:706643-20200116@calenda.revues.org
SUMMARY:Régimes dynastiques et modernité politique
URL:https://calenda-formation.labocleo.org/706643
DESCRIPTION:Dans le prolongement des années précédentes\, le séminaire sondera l’écart entre une organisation politique fortement incarnée dans la personne et la maison du Roi\, et le modèle de l’État dont l’abstraction va grandissante\, jusqu’au hiatus précoce que… @plus_info https://calenda-formation.labocleo.org/706643
LOCATION:Paris
END:VEVENT
BEGIN:VEVENT
DTSTART;VALUE=DATE:20200130
DTEND;VALUE=DATE:20200131
UID:706643-20200130@calenda.revues.org
SUMMARY:Régimes dynastiques et modernité politique
URL:https://calenda-formation.labocleo.org/706643
DESCRIPTION:Dans le prolongement des années précédentes\, le séminaire sondera l’écart entre une organisation politique fortement incarnée dans la personne et la maison du Roi\, et le modèle de l’État dont l’abstraction va grandissante\, jusqu’au hiatus précoce que… @plus_info https://calenda-formation.labocleo.org/706643
LOCATION:Paris
END:VEVENT
BEGIN:VEVENT
DTSTART;VALUE=DATE:20200206
DTEND;VALUE=DATE:20200207
UID:706643-20200206@calenda.revues.org
SUMMARY:Régimes dynastiques et modernité politique
URL:https://calenda-formation.labocleo.org/706643
DESCRIPTION:Dans le prolongement des années précédentes\, le séminaire sondera l’écart entre une organisation politique fortement incarnée dans la personne et la maison du Roi\, et le modèle de l’État dont l’abstraction va grandissante\, jusqu’au hiatus précoce que… @plus_info https://calenda-formation.labocleo.org/706643
LOCATION:Paris
END:VEVENT
BEGIN:VEVENT
DTSTART;VALUE=DATE:20200305
DTEND;VALUE=DATE:20200306
UID:706643-20200305@calenda.revues.org
SUMMARY:Régimes dynastiques et modernité politique
URL:https://calenda-formation.labocleo.org/706643
DESCRIPTION:Dans le prolongement des années précédentes\, le séminaire sondera l’écart entre une organisation politique fortement incarnée dans la personne et la maison du Roi\, et le modèle de l’État dont l’abstraction va grandissante\, jusqu’au hiatus précoce que… @plus_info https://calenda-formation.labocleo.org/706643
LOCATION:Paris
END:VEVENT
BEGIN:VEVENT
DTSTART;VALUE=DATE:20200319
DTEND;VALUE=DATE:20200320
UID:706643-20200319@calenda.revues.org
SUMMARY:Régimes dynastiques et modernité politique
URL:https://calenda-formation.labocleo.org/706643
DESCRIPTION:Dans le prolongement des années précédentes\, le séminaire sondera l’écart entre une organisation politique fortement incarnée dans la personne et la maison du Roi\, et le modèle de l’État dont l’abstraction va grandissante\, jusqu’au hiatus précoce que… @plus_info https://calenda-formation.labocleo.org/706643
LOCATION:Paris
END:VEVENT
BEGIN:VEVENT
DTSTART;VALUE=DATE:20200402
DTEND;VALUE=DATE:20200403
UID:706643-20200402@calenda.revues.org
SUMMARY:Régimes dynastiques et modernité politique
URL:https://calenda-formation.labocleo.org/706643
DESCRIPTION:Dans le prolongement des années précédentes\, le séminaire sondera l’écart entre une organisation politique fortement incarnée dans la personne et la maison du Roi\, et le modèle de l’État dont l’abstraction va grandissante\, jusqu’au hiatus précoce que… @plus_info https://calenda-formation.labocleo.org/706643
LOCATION:Paris
END:VEVENT
BEGIN:VEVENT
DTSTART;VALUE=DATE:20200430
DTEND;VALUE=DATE:20200501
UID:706643-20200430@calenda.revues.org
SUMMARY:Régimes dynastiques et modernité politique
URL:https://calenda-formation.labocleo.org/706643
DESCRIPTION:Dans le prolongement des années précédentes\, le séminaire sondera l’écart entre une organisation politique fortement incarnée dans la personne et la maison du Roi\, et le modèle de l’État dont l’abstraction va grandissante\, jusqu’au hiatus précoce que… @plus_info https://calenda-formation.labocleo.org/706643
LOCATION:Paris
END:VEVENT
BEGIN:VEVENT
DTSTART;VALUE=DATE:20200507
DTEND;VALUE=DATE:20200508
UID:706643-20200507@calenda.revues.org
SUMMARY:Régimes dynastiques et modernité politique
URL:https://calenda-formation.labocleo.org/706643
DESCRIPTION:Dans le prolongement des années précédentes\, le séminaire sondera l’écart entre une organisation politique fortement incarnée dans la personne et la maison du Roi\, et le modèle de l’État dont l’abstraction va grandissante\, jusqu’au hiatus précoce que… @plus_info https://calenda-formation.labocleo.org/706643
LOCATION:Paris
END:VEVENT
END:VCALENDAR
