BEGIN:VCALENDAR
VERSION:2.0
PRODID:-//https://calenda-formation.labocleo.org
X-WR-CALNAME:Calenda
X-WR-TIMEZONE:Europe/Paris
CALSCALE:GREGORIAN
X-WR-CALDESC:The calendar for arts, humanities and social sciences
METHOD:PUBLISH
BEGIN:VEVENT
DTSTART;VALUE=DATE:20191128
DTEND;VALUE=DATE:20191129
UID:707183-20191128@calenda.revues.org
SUMMARY:Beauties chair - Université PSL
URL:https://calenda-formation.labocleo.org/707183
DESCRIPTION:La chaire « Beauté(s) » est un lieu de recherche et de formation dédié à la réflexion interdisciplinaire sur la notion de beauté. Un cycle annuel de conférences sollicite et croise sciences et création pour saisir tous les enjeux de cette notion comp… @plus_info https://calenda-formation.labocleo.org/707183
LOCATION:Paris
END:VEVENT
BEGIN:VEVENT
DTSTART;VALUE=DATE:20200116
DTEND;VALUE=DATE:20200117
UID:707183-20200116@calenda.revues.org
SUMMARY:Beauties chair - Université PSL
URL:https://calenda-formation.labocleo.org/707183
DESCRIPTION:La chaire « Beauté(s) » est un lieu de recherche et de formation dédié à la réflexion interdisciplinaire sur la notion de beauté. Un cycle annuel de conférences sollicite et croise sciences et création pour saisir tous les enjeux de cette notion comp… @plus_info https://calenda-formation.labocleo.org/707183
LOCATION:Paris
END:VEVENT
BEGIN:VEVENT
DTSTART;VALUE=DATE:20200319
DTEND;VALUE=DATE:20200320
UID:707183-20200319@calenda.revues.org
SUMMARY:Beauties chair - Université PSL
URL:https://calenda-formation.labocleo.org/707183
DESCRIPTION:La chaire « Beauté(s) » est un lieu de recherche et de formation dédié à la réflexion interdisciplinaire sur la notion de beauté. Un cycle annuel de conférences sollicite et croise sciences et création pour saisir tous les enjeux de cette notion comp… @plus_info https://calenda-formation.labocleo.org/707183
LOCATION:Paris
END:VEVENT
BEGIN:VEVENT
DTSTART;VALUE=DATE:20200514
DTEND;VALUE=DATE:20200515
UID:707183-20200514@calenda.revues.org
SUMMARY:Beauties chair - Université PSL
URL:https://calenda-formation.labocleo.org/707183
DESCRIPTION:La chaire « Beauté(s) » est un lieu de recherche et de formation dédié à la réflexion interdisciplinaire sur la notion de beauté. Un cycle annuel de conférences sollicite et croise sciences et création pour saisir tous les enjeux de cette notion comp… @plus_info https://calenda-formation.labocleo.org/707183
LOCATION:Paris
END:VEVENT
END:VCALENDAR
