BEGIN:VCALENDAR
VERSION:2.0
PRODID:-//https://calenda-formation.labocleo.org
X-WR-CALNAME:Calenda
X-WR-TIMEZONE:Europe/Paris
CALSCALE:GREGORIAN
X-WR-CALDESC:Le calendrier des lettres et sciences humaines et sociales
METHOD:PUBLISH
BEGIN:VEVENT
DTSTART;VALUE=DATE:20191231
DTEND;VALUE=DATE:20200101
UID:708313-20191231@calenda.revues.org
SUMMARY:Relations entre enjeux épistémologiques et éthiques en éducation
URL:https://calenda-formation.labocleo.org/708313
DESCRIPTION:L’école\, en tant qu’institution\, ne peut faire fi des enjeux épistémologiques et éthiques de l’éducation dans ses différents champs disciplinaires ou professionnels et dans sa dimension transversale. Seulement\, la mise en relation des considérations … Más informaciones https://calenda-formation.labocleo.org/708313
LOCATION:Montreal
END:VEVENT
END:VCALENDAR
