BEGIN:VCALENDAR
VERSION:2.0
PRODID:-//https://calenda-formation.labocleo.org
X-WR-CALNAME:Calenda
X-WR-TIMEZONE:Europe/Paris
CALSCALE:GREGORIAN
X-WR-CALDESC:The calendar for arts, humanities and social sciences
METHOD:PUBLISH
BEGIN:VEVENT
DTSTART;VALUE=DATE:20191128
DTEND;VALUE=DATE:20191129
UID:709003-20191128@calenda.revues.org
SUMMARY:Law\, revolutions and transitions. 1959-2019: Cuba\, sixty years of revolution in the face of globalisation
URL:https://calenda-formation.labocleo.org/709003
DESCRIPTION:À l’occasion de ce colloque interdisciplinaire\, théoriciens et praticiens européens et cubains\, juristes publicistes (constitutionnalistes\, internationalistes\, européanistes)\, historiens et sociologues reviendront sur la Révolution cubaine et la tran… @plus_info https://calenda-formation.labocleo.org/709003
LOCATION:Aix-en-Provence
END:VEVENT
BEGIN:VEVENT
DTSTART;VALUE=DATE:20191129
DTEND;VALUE=DATE:20191130
UID:709003-20191129@calenda.revues.org
SUMMARY:Law\, revolutions and transitions. 1959-2019: Cuba\, sixty years of revolution in the face of globalisation
URL:https://calenda-formation.labocleo.org/709003
DESCRIPTION:À l’occasion de ce colloque interdisciplinaire\, théoriciens et praticiens européens et cubains\, juristes publicistes (constitutionnalistes\, internationalistes\, européanistes)\, historiens et sociologues reviendront sur la Révolution cubaine et la tran… @plus_info https://calenda-formation.labocleo.org/709003
LOCATION:Aix-en-Provence
END:VEVENT
END:VCALENDAR
