BEGIN:VCALENDAR
VERSION:2.0
PRODID:-//https://calenda-formation.labocleo.org
X-WR-CALNAME:Calenda
X-WR-TIMEZONE:Europe/Paris
CALSCALE:GREGORIAN
X-WR-CALDESC:Le calendrier des lettres et sciences humaines et sociales
METHOD:PUBLISH
BEGIN:VEVENT
DTSTART;VALUE=DATE:20200106
DTEND;VALUE=DATE:20200107
UID:709847-20200106@calenda.revues.org
SUMMARY:Déviances antiques : la cité à l’épreuve de la transgression
URL:https://calenda-formation.labocleo.org/709847
DESCRIPTION:Le laboratoire junior TAntALE se propose de poursuivre sa réflexion autour de la notion de transgression dans l'Antiquité en s'appuyant sur le concept sociologique de déviance. Qui sont les outsiders antiques ? Les domaines de la religion\, – rites à … Weitere Informationen https://calenda-formation.labocleo.org/709847
LOCATION:Lyon
END:VEVENT
END:VCALENDAR
