BEGIN:VCALENDAR
VERSION:2.0
PRODID:-//https://calenda-formation.labocleo.org
X-WR-CALNAME:Calenda
X-WR-TIMEZONE:Europe/Paris
CALSCALE:GREGORIAN
X-WR-CALDESC:The calendar for arts, humanities and social sciences
METHOD:PUBLISH
BEGIN:VEVENT
DTSTART;VALUE=DATE:20200120
DTEND;VALUE=DATE:20200121
UID:709925-20200120@calenda.revues.org
SUMMARY:Health from an environmental perspective: public policies and citizen mobilisation
URL:https://calenda-formation.labocleo.org/709925
DESCRIPTION:Issue 19 of the journal Amnis proposes to address this connection between health and the environment. In addition to the fact that the recent fire at the Lubrizol chemical storage plant in Rouen on the night of 25–26 September 2019 confirms the impor… @plus_info https://calenda-formation.labocleo.org/709925
LOCATION:
END:VEVENT
END:VCALENDAR
