BEGIN:VCALENDAR
VERSION:2.0
PRODID:-//https://calenda-formation.labocleo.org
X-WR-CALNAME:Calenda
X-WR-TIMEZONE:Europe/Paris
CALSCALE:GREGORIAN
X-WR-CALDESC:Le calendrier des lettres et sciences humaines et sociales
METHOD:PUBLISH
BEGIN:VEVENT
DTSTART;VALUE=DATE:20191206
DTEND;VALUE=DATE:20191207
UID:713273-20191206@calenda.revues.org
SUMMARY:Thérapies alternatives spirituelles
URL:https://calenda-formation.labocleo.org/713273
DESCRIPTION:Les sociétés occidentales contemporaines sont marquées par une recherche croissante de santé et de spiritualité qui emprunte à divers champs de connaissance. Dans ce colloque\, nous nous intéresserons plus particulièrement à des formes de the… Weitere Informationen https://calenda-formation.labocleo.org/713273
LOCATION:Neuchâtel
END:VEVENT
END:VCALENDAR
