BEGIN:VCALENDAR
VERSION:2.0
PRODID:-//https://calenda-formation.labocleo.org
X-WR-CALNAME:Calenda
X-WR-TIMEZONE:Europe/Paris
CALSCALE:GREGORIAN
X-WR-CALDESC:Le calendrier des lettres et sciences humaines et sociales
METHOD:PUBLISH
BEGIN:VEVENT
DTSTART;VALUE=DATE:20191206
DTEND;VALUE=DATE:20191207
UID:714271-20191206@calenda.revues.org
SUMMARY:Héritages culturels européens
URL:https://calenda-formation.labocleo.org/714271
DESCRIPTION:Les contextes récents des élections européennes et de la montée des nationalismes nous rappellent que la définition culturelle de l'Europe continue de se poser avec acuité\, interrogeant les limites des héritages partagés. L'idée d’Europe ne va pas de… Weitere Informationen https://calenda-formation.labocleo.org/714271
LOCATION:Créteil
END:VEVENT
END:VCALENDAR
