BEGIN:VCALENDAR
VERSION:2.0
PRODID:-//https://calenda-formation.labocleo.org
X-WR-CALNAME:Calenda
X-WR-TIMEZONE:Europe/Paris
CALSCALE:GREGORIAN
X-WR-CALDESC:The calendar for arts, humanities and social sciences
METHOD:PUBLISH
BEGIN:VEVENT
DTSTART;VALUE=DATE:20200131
DTEND;VALUE=DATE:20200201
UID:715571-20200131@calenda.revues.org
SUMMARY:Limits and psychiatry: ethical issues
URL:https://calenda-formation.labocleo.org/715571
DESCRIPTION:Ce colloque a pour but de promouvoir\, dans la pluridisciplinarité\, la réflexion éthique dans le champ de la psychiatrie afin d’améliorer la qualité des pratiques de soin et humaniser les relations entre les divers protagonistes du système de santé. C… @plus_info https://calenda-formation.labocleo.org/715571
LOCATION:Marseille
END:VEVENT
END:VCALENDAR
