BEGIN:VCALENDAR
VERSION:2.0
PRODID:-//https://calenda-formation.labocleo.org
X-WR-CALNAME:Calenda
X-WR-TIMEZONE:Europe/Paris
CALSCALE:GREGORIAN
X-WR-CALDESC:The calendar for arts, humanities and social sciences
METHOD:PUBLISH
BEGIN:VEVENT
DTSTART;VALUE=DATE:20191206
DTEND;VALUE=DATE:20191207
UID:716033-20191206@calenda.revues.org
SUMMARY:History and governance: interactions and conflicts between actors and norms
URL:https://calenda-formation.labocleo.org/716033
DESCRIPTION:Les doctorants du Centre d'histoire judiciaire de l'université de Lille organisent leur première journée d'étude qui portera sur la plurigouvernance et la multinormativité.  Cette journée d'étude\, qui se divisera en quatre thématiques principales\, vi… @plus_info https://calenda-formation.labocleo.org/716033
LOCATION:Lille
END:VEVENT
END:VCALENDAR
