BEGIN:VCALENDAR
VERSION:2.0
PRODID:-//https://calenda-formation.labocleo.org
X-WR-CALNAME:Calenda
X-WR-TIMEZONE:Europe/Paris
CALSCALE:GREGORIAN
X-WR-CALDESC:O calendário de letras e de ciências sociais e humanas
METHOD:PUBLISH
BEGIN:VEVENT
DTSTART;VALUE=DATE:20200301
DTEND;VALUE=DATE:20200302
UID:717347-20200301@calenda.revues.org
SUMMARY:IIIe prix européen d’archéologie Joseph Déchelette
URL:https://calenda-formation.labocleo.org/717347
DESCRIPTION:Archéologue de renom international\, Joseph Déchelette (1862-1914) fut notamment un des fondateurs de l’archéologie protohistorique européenne. Créée en 2010 à l’initiative de son petit neveu Édouard Déchelette(†)\, l’association Joseph Déchelette souh… @plus_info https://calenda-formation.labocleo.org/717347
LOCATION:Roanne
END:VEVENT
END:VCALENDAR
