BEGIN:VCALENDAR
VERSION:2.0
PRODID:-//https://calenda-formation.labocleo.org
X-WR-CALNAME:Calenda
X-WR-TIMEZONE:Europe/Paris
CALSCALE:GREGORIAN
X-WR-CALDESC:The calendar for arts, humanities and social sciences
METHOD:PUBLISH
BEGIN:VEVENT
DTSTART;VALUE=DATE:20200131
DTEND;VALUE=DATE:20200201
UID:717590-20200131@calenda.revues.org
SUMMARY:States and perspectives of semio-pragmatics in research into cinema\, audiovisual productions and the new communication spaces
URL:https://calenda-formation.labocleo.org/717590
DESCRIPTION:Force est de constater que la théorie sémio-pragmatique connaît depuis quelques années un succès croissant. Comme en attestent les nombreuses contributions mobilisant cette théorie lors de colloques ayant donné lieu à des ouvrages\, la pensée odinienn… @plus_info https://calenda-formation.labocleo.org/717590
LOCATION:Paris
END:VEVENT
END:VCALENDAR
