BEGIN:VCALENDAR
VERSION:2.0
PRODID:-//https://calenda-formation.labocleo.org
X-WR-CALNAME:Calenda
X-WR-TIMEZONE:Europe/Paris
CALSCALE:GREGORIAN
X-WR-CALDESC:The calendar for arts, humanities and social sciences
METHOD:PUBLISH
BEGIN:VEVENT
DTSTART;VALUE=DATE:20200315
DTEND;VALUE=DATE:20200316
UID:718166-20200315@calenda.revues.org
SUMMARY:Memory in questions: transmission\, transfers and narratives
URL:https://calenda-formation.labocleo.org/718166
DESCRIPTION:Suivant une approche qui se veut prospective autant qu’historicisée\, le IVe congrès Associação Portuguesa de Estudos Franceses (APEF) – Societé des hispanistes français (AFUE) – Asociación de Francesistas de la Universidad Española (SHF) se propose d… @plus_info https://calenda-formation.labocleo.org/718166
LOCATION:Ponta Delgada
END:VEVENT
END:VCALENDAR
