BEGIN:VCALENDAR
VERSION:2.0
PRODID:-//https://calenda-formation.labocleo.org
X-WR-CALNAME:Calenda
X-WR-TIMEZONE:Europe/Paris
CALSCALE:GREGORIAN
X-WR-CALDESC:Le calendrier des lettres et sciences humaines et sociales
METHOD:PUBLISH
BEGIN:VEVENT
DTSTART;VALUE=DATE:20191127
DTEND;VALUE=DATE:20191128
UID:718451-20191127@calenda.revues.org
SUMMARY:Estimating\, Locating\, and Comparing Mental Disorders in the Second Part of the Twentieth Century
URL:https://calenda-formation.labocleo.org/718451
DESCRIPTION:Psychiatric epidemiology – the study of the distribution of mental disorders within a population – emerged on the scientific scene during the second half of the 20th century. However\, unlike the fields of psychiatry\, psychology\, and psychoanalysis\, p… Weitere Informationen https://calenda-formation.labocleo.org/718451
LOCATION:Lyon
END:VEVENT
END:VCALENDAR
