BEGIN:VCALENDAR
VERSION:2.0
PRODID:-//https://calenda-formation.labocleo.org
X-WR-CALNAME:Calenda
X-WR-TIMEZONE:Europe/Paris
CALSCALE:GREGORIAN
X-WR-CALDESC:Le calendrier des lettres et sciences humaines et sociales
METHOD:PUBLISH
BEGIN:VEVENT
DTSTART;VALUE=DATE:20200131
DTEND;VALUE=DATE:20200201
UID:719270-20200131@calenda.revues.org
SUMMARY:Religiosités séculières et sacré laïque
URL:https://calenda-formation.labocleo.org/719270
DESCRIPTION:Ce colloque s'intéressera aux métamorphoses du religieux et du sacré en contexte laïque\, notamment à partir de la notion de « religion séculière » développée par Eric Voegelin et Raymond Aron\, mais aussi de "religiosité séculière" forgée par Albert P… @plus_info https://calenda-formation.labocleo.org/719270
LOCATION:Épinal
END:VEVENT
END:VCALENDAR
