BEGIN:VCALENDAR
VERSION:2.0
PRODID:-//https://calenda-formation.labocleo.org
X-WR-CALNAME:Calenda
X-WR-TIMEZONE:Europe/Paris
CALSCALE:GREGORIAN
X-WR-CALDESC:The calendar for arts, humanities and social sciences
METHOD:PUBLISH
BEGIN:VEVENT
DTSTART;VALUE=DATE:20200131
DTEND;VALUE=DATE:20200201
UID:720611-20200131@calenda.revues.org
SUMMARY:Françoise Tétard prize in the history of popular education / history of specalised education (2020)
URL:https://calenda-formation.labocleo.org/720611
DESCRIPTION:Le prix « Françoise Tétard » est conjointement créé par l’Association pour l’histoire de la protection judiciaire des mineurs (AHPJM)\, le Conservatoire national des archives et de l’histoire de l’éducation spécialisée et de l’action sociale (CNAHES)\,… @plus_info https://calenda-formation.labocleo.org/720611
LOCATION:Paris
END:VEVENT
END:VCALENDAR
