BEGIN:VCALENDAR
VERSION:2.0
PRODID:-//https://calenda-formation.labocleo.org
X-WR-CALNAME:Calenda
X-WR-TIMEZONE:Europe/Paris
CALSCALE:GREGORIAN
X-WR-CALDESC:The calendar for arts, humanities and social sciences
METHOD:PUBLISH
BEGIN:VEVENT
DTSTART;VALUE=DATE:20191231
DTEND;VALUE=DATE:20200101
UID:721046-20191231@calenda.revues.org
SUMMARY:Pleasure in literary texts - From humanism to post-modernism
URL:https://calenda-formation.labocleo.org/721046
DESCRIPTION:Le commerce aujourd'hui répète à l'envi le mot « plaisir ». Il n'est qu'à voir et à écouter la publicité qui nous abreuve de ce vocable. Mais pour être dans l'air du temps\, le plaisir n'a pas toujours eu grâce aux yeux des pouvoirs en place. L'Église… @plus_info https://calenda-formation.labocleo.org/721046
LOCATION:Orléans
END:VEVENT
END:VCALENDAR
