BEGIN:VCALENDAR
VERSION:2.0
PRODID:-//https://calenda-formation.labocleo.org
X-WR-CALNAME:Calenda
X-WR-TIMEZONE:Europe/Paris
CALSCALE:GREGORIAN
X-WR-CALDESC:The calendar for arts, humanities and social sciences
METHOD:PUBLISH
BEGIN:VEVENT
DTSTART;VALUE=DATE:20191231
DTEND;VALUE=DATE:20200101
UID:721217-20191231@calenda.revues.org
SUMMARY:Verbal and physical violen in schools in Algeria
URL:https://calenda-formation.labocleo.org/721217
DESCRIPTION:Afin d’approfondir la question de la violence en milieu scolaire\, et pour une meilleure compréhension de ce phénomène dans le système éducatif algérien\, le département de langue française de l’Ecole Normale Supérieure (ENS) lance un appel à communica… @plus_info https://calenda-formation.labocleo.org/721217
LOCATION:Mostaganem
END:VEVENT
END:VCALENDAR
