BEGIN:VCALENDAR
VERSION:2.0
PRODID:-//https://calenda-formation.labocleo.org
X-WR-CALNAME:Calenda
X-WR-TIMEZONE:Europe/Paris
CALSCALE:GREGORIAN
X-WR-CALDESC:The calendar for arts, humanities and social sciences
METHOD:PUBLISH
BEGIN:VEVENT
DTSTART;VALUE=DATE:20191218
DTEND;VALUE=DATE:20191219
UID:721658-20191218@calenda.revues.org
SUMMARY:Recherche et création
URL:https://calenda-formation.labocleo.org/721658
DESCRIPTION:La rencontre « Objets partagés / démarches croisées » réunira artistes (autrices et auteurs\, metteuses et metteurs en scène\, compositeurs) et chercheuses\, chercheurs\, et s’attachera à explorer les formes d’articulation entre la création et la recherc… @plus_info https://calenda-formation.labocleo.org/721658
LOCATION:Paris
END:VEVENT
END:VCALENDAR
