BEGIN:VCALENDAR
VERSION:2.0
PRODID:-//https://calenda-formation.labocleo.org
X-WR-CALNAME:Calenda
X-WR-TIMEZONE:Europe/Paris
CALSCALE:GREGORIAN
X-WR-CALDESC:The calendar for arts, humanities and social sciences
METHOD:PUBLISH
BEGIN:VEVENT
DTSTART;VALUE=DATE:20191230
DTEND;VALUE=DATE:20191231
UID:722405-20191230@calenda.revues.org
SUMMARY:Picturing Tomorrow: Future-directed Imagination in American Art
URL:https://calenda-formation.labocleo.org/722405
DESCRIPTION:How do we understand the concept of the future? Is it inevitable and shaped by a long sequence of events and interconnected chance occurrences? Or do we conceive of it as something that is determined by our actions and decisions in the present day? I… @plus_info https://calenda-formation.labocleo.org/722405
LOCATION:Nanterre
END:VEVENT
END:VCALENDAR
