BEGIN:VCALENDAR
VERSION:2.0
PRODID:-//https://calenda-formation.labocleo.org
X-WR-CALNAME:Calenda
X-WR-TIMEZONE:Europe/Paris
CALSCALE:GREGORIAN
X-WR-CALDESC:Le calendrier des lettres et sciences humaines et sociales
METHOD:PUBLISH
BEGIN:VEVENT
DTSTART;VALUE=DATE:20200115
DTEND;VALUE=DATE:20200116
UID:723335-20200115@calenda.revues.org
SUMMARY:Mémoires dans la Caraïbe et l’Amérique latine : entre tradition\, modernité et transmodernité 
URL:https://calenda-formation.labocleo.org/723335
DESCRIPTION:Les mémoires et traditions dans la Caraïbe et dans l’Amérique latine ont toujours fait l’objet de discussions houleuses\, ont toujours déchaîné des convulsions\, tant elles ont été affectées par des processus d’amnésies et d’assimilation\, portés direct… @plus_info https://calenda-formation.labocleo.org/723335
LOCATION:Fort-de-France
END:VEVENT
END:VCALENDAR
