BEGIN:VCALENDAR
VERSION:2.0
PRODID:-//https://calenda-formation.labocleo.org
X-WR-CALNAME:Calenda
X-WR-TIMEZONE:Europe/Paris
CALSCALE:GREGORIAN
X-WR-CALDESC:Le calendrier des lettres et sciences humaines et sociales
METHOD:PUBLISH
BEGIN:VEVENT
DTSTART;VALUE=DATE:20200115
DTEND;VALUE=DATE:20200116
UID:723950-20200115@calenda.revues.org
SUMMARY:Partitions\, scripts\, énoncés performatifs
URL:https://calenda-formation.labocleo.org/723950
DESCRIPTION:L’objectif de ces journées d'études interdisciplinaires sera de questionner les pratiques des artistes qui choisissent non pas de faire l’œuvre mais de faire faire l’œuvre. Pour cela\, nous nous intéresserons aux partitions\, scripts ou énoncés perform… Más informaciones https://calenda-formation.labocleo.org/723950
LOCATION:Rennes\, París
END:VEVENT
END:VCALENDAR
