BEGIN:VCALENDAR
VERSION:2.0
PRODID:-//https://calenda-formation.labocleo.org
X-WR-CALNAME:Calenda
X-WR-TIMEZONE:Europe/Paris
CALSCALE:GREGORIAN
X-WR-CALDESC:The calendar for arts, humanities and social sciences
METHOD:PUBLISH
BEGIN:VEVENT
DTSTART;VALUE=DATE:20200115
DTEND;VALUE=DATE:20200116
UID:724922-20200115@calenda.revues.org
SUMMARY:Scores\, scripts and performative enunciations
URL:https://calenda-formation.labocleo.org/724922
DESCRIPTION:L’objectif de ces journées sera de questionner les pratiques des artistes qui choisissent non pas de faire l’œuvre mais de faire faire l’œuvre. Pour cela\, nous nous intéresserons aux partitions\, scripts ou énoncés performatifs. Les partitions sont à … @plus_info https://calenda-formation.labocleo.org/724922
LOCATION:Rennes\, Paris
END:VEVENT
END:VCALENDAR
