BEGIN:VCALENDAR
VERSION:2.0
PRODID:-//https://calenda-formation.labocleo.org
X-WR-CALNAME:Calenda
X-WR-TIMEZONE:Europe/Paris
CALSCALE:GREGORIAN
X-WR-CALDESC:The calendar for arts, humanities and social sciences
METHOD:PUBLISH
BEGIN:VEVENT
DTSTART;VALUE=DATE:20200124
DTEND;VALUE=DATE:20200125
UID:727100-20200124@calenda.revues.org
SUMMARY:"A Frenchman goes into a theatre..." The current state of comedy in France
URL:https://calenda-formation.labocleo.org/727100
DESCRIPTION:Ce colloque souhaite établir un état des lieux contemporain de la comédie française\, en étudiant les aspects esthétiques\, socioculturels et économiques. Ce genre qui\, commercialement\, reste l'un des plus attractifs\, tout en peinant\, artistiquement\, à… @plus_info https://calenda-formation.labocleo.org/727100
LOCATION:Caen
END:VEVENT
END:VCALENDAR
