BEGIN:VCALENDAR
VERSION:2.0
PRODID:-//https://calenda-formation.labocleo.org
X-WR-CALNAME:Calenda
X-WR-TIMEZONE:Europe/Paris
CALSCALE:GREGORIAN
X-WR-CALDESC:Le calendrier des lettres et sciences humaines et sociales
METHOD:PUBLISH
BEGIN:VEVENT
DTSTART;VALUE=DATE:20200110
DTEND;VALUE=DATE:20200111
UID:728208-20200110@calenda.revues.org
SUMMARY:Le local au prisme de la transition écologique
URL:https://calenda-formation.labocleo.org/728208
DESCRIPTION:La recherche « le local au prisme de la transition écologique » vise à saisir « par le bas » la notion de « local » en portant l’attention sur les processus de reterritorialisation des activités portés par la transition écologique (TE). Elle consiste… Weitere Informationen https://calenda-formation.labocleo.org/728208
LOCATION:Paris
END:VEVENT
END:VCALENDAR
