BEGIN:VCALENDAR
VERSION:2.0
PRODID:-//https://calenda-formation.labocleo.org
X-WR-CALNAME:Calenda
X-WR-TIMEZONE:Europe/Paris
CALSCALE:GREGORIAN
X-WR-CALDESC:The calendar for arts, humanities and social sciences
METHOD:PUBLISH
BEGIN:VEVENT
DTSTART;VALUE=DATE:20200213
DTEND;VALUE=DATE:20200214
UID:729080-20200213@calenda.revues.org
SUMMARY:Materializing Sound in Antiquity: materials as a bodily and symbolic component of sound objects
URL:https://calenda-formation.labocleo.org/729080
DESCRIPTION:Materials used to make musical instruments or sound objects are essential in archaeomusicological studies. They allow us to assess the acoustic capacities of artefacts and to reconstruct the soundscapes of Antiquity. Bronze (and more generally metals… @plus_info https://calenda-formation.labocleo.org/729080
LOCATION:Budapest
END:VEVENT
END:VCALENDAR
