BEGIN:VCALENDAR
VERSION:2.0
PRODID:-//https://calenda-formation.labocleo.org
X-WR-CALNAME:Calenda
X-WR-TIMEZONE:Europe/Paris
CALSCALE:GREGORIAN
X-WR-CALDESC:The calendar for arts, humanities and social sciences
METHOD:PUBLISH
BEGIN:VEVENT
DTSTART;VALUE=DATE:20200120
DTEND;VALUE=DATE:20200121
UID:729854-20200120@calenda.revues.org
SUMMARY:Digital research infrastructures in social and cultural anthropology
URL:https://calenda-formation.labocleo.org/729854
DESCRIPTION:This panel addresses the debate about challenges and implications of digitisation and datafication in ethnographic research\, by taking into account digital tools and services for social and cultural anthropologists that are currently under way. … @plus_info https://calenda-formation.labocleo.org/729854
LOCATION:Lisbon
END:VEVENT
END:VCALENDAR
